BEGIN:VCALENDAR
VERSION:2.0
PRODID:icalendar-ruby
CALSCALE:GREGORIAN
METHOD:PUBLISH
BEGIN:VEVENT
DTSTAMP:20260421T070612Z
UID:5-520017@calvarysnohomish.com
DTSTART:20240519T170000Z
DTEND:20240519T183000Z
CLASS:PUBLIC
CREATED:20260420T165249
DESCRIPTION:
LAST-MODIFIED:20260420T165249
LOCATION:
SUMMARY:Sunday Morning Service
URL;VALUE=URI:https://www.calvarysnohomish.com/events/sunday-morning-servic
 e/2024-05-19
END:VEVENT
END:VCALENDAR
