BEGIN:VCALENDAR
VERSION:2.0
PRODID:icalendar-ruby
CALSCALE:GREGORIAN
METHOD:PUBLISH
BEGIN:VEVENT
DTSTAMP:20260425T111334Z
UID:5-527470@calvarysnohomish.com
DTSTART:20240609T170000Z
DTEND:20240609T183000Z
CLASS:PUBLIC
CREATED:20260425T040106
DESCRIPTION:
LAST-MODIFIED:20260425T040106
LOCATION:
SUMMARY:Sunday Morning Service
URL;VALUE=URI:https://www.calvarysnohomish.com/events/sunday-morning-servic
 e/2024-06-09
END:VEVENT
END:VCALENDAR
